BEGIN:VCALENDAR
VERSION:2.0
PRODID:-//Devpost\, Inc.//DeveloperWeek New York 2026 Hackathon//EN
CALSCALE:GREGORIAN
BEGIN:VTIMEZONE
TZID:America/New_York
BEGIN:DAYLIGHT
DTSTART:20260308T030000
TZOFFSETFROM:-0500
TZOFFSETTO:-0400
RRULE:FREQ=YEARLY;BYDAY=2SU;BYMONTH=3
TZNAME:EDT
END:DAYLIGHT
BEGIN:STANDARD
DTSTART:20261101T010000
TZOFFSETFROM:-0400
TZOFFSETTO:-0500
RRULE:FREQ=YEARLY;BYDAY=1SU;BYMONTH=11
TZNAME:EST
END:STANDARD
END:VTIMEZONE
BEGIN:VEVENT
DTSTAMP:20260423T053800Z
UID:a1834058-4cb8-4a0b-b9ef-8e4f21282622
DTSTART;TZID=America/New_York:20260525T100000
DTEND;TZID=America/New_York:20260610T100000
DESCRIPTION:https://dwny-2026-hackathon.devpost.com/
LOCATION:1 Idlewild Dr\, Queens\, NY 11430\, USA
SUMMARY:DeveloperWeek New York 2026 Hackathon
BEGIN:VALARM
ACTION:DISPLAY
TRIGGER:-P3D
SUMMARY:Get ready\, the hacking starts in 3 days.
END:VALARM
END:VEVENT
END:VCALENDAR
